BEGIN:VCALENDAR
VERSION:2.0
PRODID:icalendar-ruby
CALSCALE:GREGORIAN
METHOD:PUBLISH
BEGIN:VEVENT
DTSTAMP:20260422T141331Z
UID:386-1189893@sturgeonalliance.org
DTSTART:20260425T010000Z
DTEND:20260425T030000Z
CLASS:PUBLIC
CREATED:20260404T134045
DESCRIPTION:
LAST-MODIFIED:20260404T134045
LOCATION:Sturgeon Alliance Church
SUMMARY:Fuse
URL;VALUE=URI:https://www.sturgeonalliance.org/events/fuse--386/2026-04-24
ATTACH;FILENAME=Youth Graphics Semester 2 (12).png;FMTTYPE=image/png:https:
 //dq5pwpg1q8ru0.cloudfront.net/2026/04/04/19/40/44/2c008465-384d-46a6-b0fa
 -e32f4d997034/Youth%20Graphics%20Semester%202%20(12).png
END:VEVENT
END:VCALENDAR
