BEGIN:VCALENDAR
VERSION:2.0
PRODID:icalendar-ruby
CALSCALE:GREGORIAN
METHOD:PUBLISH
BEGIN:VEVENT
DTSTAMP:20260422T122026Z
UID:382-1189889@sturgeonalliance.org
DTSTART:20260423T000000Z
DTEND:20260423T013000Z
CLASS:PUBLIC
CREATED:20260404T132859
DESCRIPTION:
LAST-MODIFIED:20260404T132859
LOCATION:Sturgeon Alliance Church
SUMMARY:Ignite
URL;VALUE=URI:https://www.sturgeonalliance.org/events/ignite--382/2026-04-2
 2
ATTACH;FILENAME=Ignite The Bible as a Story Graphic Instagram Post (1).png;
 FMTTYPE=image/png:https://dq5pwpg1q8ru0.cloudfront.net/2026/04/04/19/28/58
 /60396d7a-b8f3-4c1b-9fd7-a38c9bbe9b68/Ignite%20The%20Bible%20as%20a%20Stor
 y%20Graphic%20Instagram%20Post%20(1).png
END:VEVENT
END:VCALENDAR
